BEGIN:VCALENDAR
VERSION:2.0
PRODID:-//Squarespace Inc/Squarespace 6//v6//EN
BEGIN:VEVENT
UID:590a40f3f5e2311877752187@squarespace.com
DTSTAMP:20170503T204356Z
DTSTART:20170204T180000Z
DTEND:20170204T190000Z
SUMMARY:Rain - Stillae
END:VEVENT
END:VCALENDAR
