BEGIN:VCALENDAR
VERSION:2.0
PRODID:-//Squarespace Inc/Squarespace 6//v6//EN
BEGIN:VEVENT
UID:590a3f94bf629a1fec801ce0@squarespace.com
DTSTAMP:20170503T203808Z
DTSTART:20170216T190000Z
DTEND:20170216T200000Z
SUMMARY:Sequences - ICE
END:VEVENT
END:VCALENDAR
