BEGIN:VCALENDAR
VERSION:2.0
PRODID:-//Squarespace Inc/Squarespace 6//v6//EN
BEGIN:VEVENT
UID:590a3fe54402438ad1afafa3@squarespace.com
DTSTAMP:20170504T093228Z
DTSTART:20170216T210000Z
DTEND:20170217T220000Z
SUMMARY:Ethereality
END:VEVENT
END:VCALENDAR
