BEGIN:VCALENDAR
VERSION:2.0
PRODID:-//Squarespace Inc/Squarespace 6//v6//EN
BEGIN:VEVENT
UID:590a4007e6f2e17836dff03c@squarespace.com
DTSTAMP:20170503T204008Z
DTSTART:20170215T210000Z
DTEND:20170215T220000Z
SUMMARY:Aura - Talujon
END:VEVENT
END:VCALENDAR
