BEGIN:VCALENDAR
VERSION:2.0
PRODID:-//Squarespace Inc/Squarespace 6//v6//EN
BEGIN:VEVENT
UID:590a40312994caa0d3072974@squarespace.com
DTSTAMP:20170503T204046Z
DTSTART:20170211T210000Z
DTEND:20170211T220000Z
SUMMARY:Shades of Silence
END:VEVENT
END:VCALENDAR
