BEGIN:VCALENDAR
VERSION:2.0
PRODID:-//Squarespace Inc/Squarespace 6//v6//EN
BEGIN:VEVENT
UID:590a40ae2e69cfb3f34530ef@squarespace.com
DTSTAMP:20170503T204249Z
DTSTART:20170210T180000Z
DTEND:20170210T190000Z
SUMMARY:Ró
END:VEVENT
END:VCALENDAR
