BEGIN:VCALENDAR
VERSION:2.0
PRODID:-//Squarespace Inc/Squarespace 6//v6//EN
BEGIN:VEVENT
UID:590a407c197aea2c7d6cd9fd@squarespace.com
DTSTAMP:20170503T204212Z
DTSTART:20170210T190000Z
DTEND:20170211T210000Z
SUMMARY:Aeriality - NDR Elbphilharmonie Orchestra
END:VEVENT
END:VCALENDAR
