BEGIN:VCALENDAR
VERSION:2.0
PRODID:-//Squarespace Inc/Squarespace 6//v6//EN
BEGIN:VEVENT
UID:59db30ec017db2e1bf186bb9@squarespace.com
DTSTAMP:20171009T081946Z
DTSTART:20171108T083000Z
DTEND:20171112T223000Z
SUMMARY:Hvolf & Sequences - ICE on tour in Mexico
END:VEVENT
END:VCALENDAR
