BEGIN:VCALENDAR
VERSION:2.0
PRODID:-//Squarespace Inc/Squarespace 6//v6//EN
BEGIN:VEVENT
UID:590a4d11893fc0d318947adc@squarespace.com
DTSTAMP:20170503T213552Z
DTSTART:20170109T200000Z
DTEND:20170109T220000Z
SUMMARY:Fields - Bang on a Can All-Stars
END:VEVENT
END:VCALENDAR
