BEGIN:VCALENDAR
VERSION:2.0
PRODID:-//Squarespace Inc/Squarespace 6//v6//EN
BEGIN:VEVENT
UID:590a4c67e3df281e3d279361@squarespace.com
DTSTAMP:20170503T213305Z
DTSTART:20170128T180000Z
DTEND:20170128T190000Z
SUMMARY:Ró - Cikada
END:VEVENT
END:VCALENDAR
