BEGIN:VCALENDAR
VERSION:2.0
PRODID:-//Squarespace Inc/Squarespace 6//v6//EN
BEGIN:VEVENT
UID:590a4c306a4963e28189a47b@squarespace.com
DTSTAMP:20170503T213212Z
DTSTART:20170128T193000Z
DTEND:20170128T203000Z
SUMMARY:Aequilibria - Reykjavik Chamber Orchestra
END:VEVENT
END:VCALENDAR
