BEGIN:VCALENDAR
VERSION:2.0
PRODID:-//Squarespace Inc/Squarespace 6//v6//EN
BEGIN:VEVENT
UID:590a4c9a1e5b6ce0876df298@squarespace.com
DTSTAMP:20170503T213350Z
DTSTART:20170121T190000Z
DTEND:20170121T200000Z
SUMMARY:Ró - ICE
END:VEVENT
END:VCALENDAR
